BEGIN:VCALENDAR
VERSION:2.0
PRODID:-//Casper - ECPv5.3.2.1//NONSGML v1.0//EN
CALSCALE:GREGORIAN
METHOD:PUBLISH
X-WR-CALNAME:Casper
X-ORIGINAL-URL:https://www.casperdehaan.nl
X-WR-CALDESC:Evenementen voor Casper
BEGIN:VTIMEZONE
TZID:UTC
BEGIN:STANDARD
TZOFFSETFROM:+0000
TZOFFSETTO:+0000
TZNAME:UTC
DTSTART:20250101T000000
END:STANDARD
END:VTIMEZONE
BEGIN:VEVENT
DTSTART;TZID=UTC:20250225T200000
DTEND;TZID=UTC:20250225T223000
DTSTAMP:20260419T122822
CREATED:20250219T222750Z
LAST-MODIFIED:20250219T222803Z
UID:949-1740513600-1740522600@www.casperdehaan.nl
SUMMARY:het Wonder van het Hart ;  3 ontwikkelingsavonden
DESCRIPTION:Verbinden met Meditatie \, Klank en Heling. \nvind in onze turbulente wereld toegang tot je onbegrensde energiebron \, avonden met meditatie als rode draad \nmet vervolg ! \ninfo@casper.org.uk \nplaats Heusden / Wijk en Aalburg
URL:https://www.casperdehaan.nl/event/het-wonder-van-het-hart-3-ontwikkelingsavonden/2025-02-25/
ATTACH;FMTTYPE=image/jpeg:https://www.casperdehaan.nl/wp-content/uploads/2023/07/camino.jpg
END:VEVENT
END:VCALENDAR