BEGIN:VCALENDAR
VERSION:2.0
PRODID:-//Casper - ECPv5.3.2.1//NONSGML v1.0//EN
CALSCALE:GREGORIAN
METHOD:PUBLISH
X-WR-CALNAME:Casper
X-ORIGINAL-URL:https://www.casperdehaan.nl
X-WR-CALDESC:Evenementen voor Casper
BEGIN:VTIMEZONE
TZID:UTC
BEGIN:STANDARD
TZOFFSETFROM:+0000
TZOFFSETTO:+0000
TZNAME:UTC
DTSTART:20240101T000000
END:STANDARD
END:VTIMEZONE
BEGIN:VEVENT
DTSTART;TZID=UTC:20240829T201500
DTEND;TZID=UTC:20240829T223000
DTSTAMP:20260419T192923
CREATED:20240618T161126Z
LAST-MODIFIED:20240618T161126Z
UID:890-1724962500-1724970600@www.casperdehaan.nl
SUMMARY:Klanken bij het vuur . Sound Healing Rijsbergen
DESCRIPTION:Een heerlijke en weldadige klankhealing / concert met singing bowls en healing voice onder de sterren bij het vuur van een late zomeravond . kom genieten en  drijf weg op de wonderlijke klanken  met Casper Wankatah (neem een matje en dekentje mee) inkom €17.50 plus €2\,50 consumtie bijdrage.
URL:https://www.casperdehaan.nl/event/klanken-bij-het-vuur-sound-healing-rijsbergen/
LOCATION:FORT ORANJESTRAAT 10 RIJSBERGEN
ATTACH;FMTTYPE=image/jpeg:https://www.casperdehaan.nl/wp-content/uploads/2024/06/IMG_2636.jpg
END:VEVENT
BEGIN:VEVENT
DTSTART;TZID=UTC:20240920T193000
DTEND;TZID=UTC:20240920T213000
DTSTAMP:20260419T192923
CREATED:20240504T122324Z
LAST-MODIFIED:20240504T122324Z
UID:881-1726860600-1726867800@www.casperdehaan.nl
SUMMARY:Flower Song   Healing Special last day of Summer Yoga Atelier Breda
DESCRIPTION:Een speciale  avond waar je een bloem mee mag brengen\, in een helende energie worden de bloemen boodschappen uitgedeeld . we vieren de laatste dag van de zomer en het begin van het gouden seizoen. Een prachtige avond waar je gewoon bij kunt  zijn als geschenk voor jezelf. Met een tipje van de sluier met van de   upcoming Healing Heart .  www.yoga-atelier-breda.nl \n  \n  \n  \n 
URL:https://www.casperdehaan.nl/event/flower-song-healing-special-last-day-of-summer-yoga-atelier-breda/
LOCATION:yoga atelier breda\, Breda
ATTACH;FMTTYPE=image/jpeg:https://www.casperdehaan.nl/wp-content/uploads/2024/05/temple-smile-Bali-2.jpg
END:VEVENT
END:VCALENDAR